BEGIN:VCALENDAR
VERSION:2.0
PRODID:-//Piney River Brewing Co. - ECPv6.15.17//NONSGML v1.0//EN
CALSCALE:GREGORIAN
METHOD:PUBLISH
X-WR-CALNAME:Piney River Brewing Co.
X-ORIGINAL-URL:https://pineyriverbrewing.com
X-WR-CALDESC:Events for Piney River Brewing Co.
REFRESH-INTERVAL;VALUE=DURATION:PT1H
X-Robots-Tag:noindex
X-PUBLISHED-TTL:PT1H
BEGIN:VTIMEZONE
TZID:America/Chicago
BEGIN:DAYLIGHT
TZOFFSETFROM:-0600
TZOFFSETTO:-0500
TZNAME:CDT
DTSTART:20230312T080000
END:DAYLIGHT
BEGIN:STANDARD
TZOFFSETFROM:-0500
TZOFFSETTO:-0600
TZNAME:CST
DTSTART:20231105T070000
END:STANDARD
BEGIN:DAYLIGHT
TZOFFSETFROM:-0600
TZOFFSETTO:-0500
TZNAME:CDT
DTSTART:20240310T080000
END:DAYLIGHT
BEGIN:STANDARD
TZOFFSETFROM:-0500
TZOFFSETTO:-0600
TZNAME:CST
DTSTART:20241103T070000
END:STANDARD
BEGIN:DAYLIGHT
TZOFFSETFROM:-0600
TZOFFSETTO:-0500
TZNAME:CDT
DTSTART:20250309T080000
END:DAYLIGHT
BEGIN:STANDARD
TZOFFSETFROM:-0500
TZOFFSETTO:-0600
TZNAME:CST
DTSTART:20251102T070000
END:STANDARD
END:VTIMEZONE
BEGIN:VEVENT
DTSTART;TZID=America/Chicago:20241102T150000
DTEND;TZID=America/Chicago:20241102T180000
DTSTAMP:20260423T002108
CREATED:20240405T221813Z
LAST-MODIFIED:20260128T213732Z
UID:10004629-1730559600-1730570400@pineyriverbrewing.com
SUMMARY:Music at the BARn with Stevie Newman
DESCRIPTION:Stevie Newman from the Domino Kings of Springfield will bring a fun afternoon of original and cover tunes from rockabilly to country and more.
URL:https://pineyriverbrewing.com/event/music-at-the-barn-with-stevie-newman-6/2024-11-02/
LOCATION:Piney River Brewing Company\, 15198 Walnut Grove Drive\, Bucyrus\, MO\, 65444
CATEGORIES:special
ORGANIZER;CN="Piney River Brewing Co.":MAILTO:joleen@pineyriverbrewing.com
GEO:37.3216327;-92.0176782
X-APPLE-STRUCTURED-LOCATION;VALUE=URI;X-ADDRESS=Piney River Brewing Company 15198 Walnut Grove Drive Bucyrus MO 65444;X-APPLE-RADIUS=500;X-TITLE=15198 Walnut Grove Drive:geo:-92.0176782,37.3216327
END:VEVENT
BEGIN:VEVENT
DTSTART;TZID=America/Chicago:20241108T160000
DTEND;TZID=America/Chicago:20241108T220000
DTSTAMP:20260423T002108
CREATED:20241023T204453Z
LAST-MODIFIED:20241023T212951Z
UID:10004649-1731081600-1731103200@pineyriverbrewing.com
SUMMARY:Give a Shout for Stout!
DESCRIPTION:Not one but TWO brand new stouts released at the BARn this weekend! \nPiney River’s Oatmeal Stout & Native Land Stout  \nNovember 8\, 9 & 10 with \n\nTrivia @ 7 on Friday\nMusic by Stevie Newman @ 3 on Saturday\nChiefs @ Noon on Sunday 
URL:https://pineyriverbrewing.com/event/give-a-shout-for-stout/2024-11-08/
LOCATION:Piney River Brewing Company\, 15198 Walnut Grove Drive\, Bucyrus\, MO\, 65444
CATEGORIES:special
ATTACH;FMTTYPE=image/jpeg:https://pineyriverbrewing.com/wp-content/uploads/2024/10/stout-release-weekend.jpg
ORGANIZER;CN="Piney River Brewing Co.":MAILTO:joleen@pineyriverbrewing.com
GEO:37.3216327;-92.0176782
X-APPLE-STRUCTURED-LOCATION;VALUE=URI;X-ADDRESS=Piney River Brewing Company 15198 Walnut Grove Drive Bucyrus MO 65444;X-APPLE-RADIUS=500;X-TITLE=15198 Walnut Grove Drive:geo:-92.0176782,37.3216327
END:VEVENT
BEGIN:VEVENT
DTSTART;TZID=America/Chicago:20241108T190000
DTEND;TZID=America/Chicago:20241108T220000
DTSTAMP:20260423T002108
CREATED:20241023T010817Z
LAST-MODIFIED:20241023T222245Z
UID:10004648-1731092400-1731103200@pineyriverbrewing.com
SUMMARY:Trivia Night at the BARn
DESCRIPTION:Trivia Host: Jason Pounds \n$10 per person – Teams from 1 to 10 people \nAll Ages Welcome \n6 Rounds with Prize for Top 3 Teams    –   Traveling Trophy & Bragging Rights for Top Team\, too \nProceeds Benefit the State Champion Houston High School Scholar Bowl Team
URL:https://pineyriverbrewing.com/event/trivia-night-at-the-barn-5/
LOCATION:Piney River Brewing Company\, 15198 Walnut Grove Drive\, Bucyrus\, MO\, 65444
CATEGORIES:special
ATTACH;FMTTYPE=image/jpeg:https://pineyriverbrewing.com/wp-content/uploads/2022/07/trivia-for-website-1.jpg
ORGANIZER;CN="Piney River Brewing Co.":MAILTO:joleen@pineyriverbrewing.com
GEO:37.3216327;-92.0176782
X-APPLE-STRUCTURED-LOCATION;VALUE=URI;X-ADDRESS=Piney River Brewing Company 15198 Walnut Grove Drive Bucyrus MO 65444;X-APPLE-RADIUS=500;X-TITLE=15198 Walnut Grove Drive:geo:-92.0176782,37.3216327
END:VEVENT
BEGIN:VEVENT
DTSTART;TZID=America/Chicago:20241109T140000
DTEND;TZID=America/Chicago:20241109T190000
DTSTAMP:20260423T002108
CREATED:20241023T204453Z
LAST-MODIFIED:20241023T212951Z
UID:10004650-1731160800-1731178800@pineyriverbrewing.com
SUMMARY:Give a Shout for Stout!
DESCRIPTION:Not one but TWO brand new stouts released at the BARn this weekend! \nPiney River’s Oatmeal Stout & Native Land Stout  \nNovember 8\, 9 & 10 with \n\nTrivia @ 7 on Friday\nMusic by Stevie Newman @ 3 on Saturday\nChiefs @ Noon on Sunday 
URL:https://pineyriverbrewing.com/event/give-a-shout-for-stout/2024-11-09/
LOCATION:Piney River Brewing Company\, 15198 Walnut Grove Drive\, Bucyrus\, MO\, 65444
CATEGORIES:special
ATTACH;FMTTYPE=image/jpeg:https://pineyriverbrewing.com/wp-content/uploads/2024/10/stout-release-weekend.jpg
ORGANIZER;CN="Piney River Brewing Co.":MAILTO:joleen@pineyriverbrewing.com
GEO:37.3216327;-92.0176782
X-APPLE-STRUCTURED-LOCATION;VALUE=URI;X-ADDRESS=Piney River Brewing Company 15198 Walnut Grove Drive Bucyrus MO 65444;X-APPLE-RADIUS=500;X-TITLE=15198 Walnut Grove Drive:geo:-92.0176782,37.3216327
END:VEVENT
BEGIN:VEVENT
DTSTART;TZID=America/Chicago:20241109T150000
DTEND;TZID=America/Chicago:20241109T180000
DTSTAMP:20260423T002108
CREATED:20240730T172700Z
LAST-MODIFIED:20260129T194834Z
UID:10004621-1731164400-1731175200@pineyriverbrewing.com
SUMMARY:Music at the BARn with Neon Scythe
DESCRIPTION:Rock ‘n roll from local band Neon Scythe.
URL:https://pineyriverbrewing.com/event/music-at-the-barn-with-neon-scythe-2/2024-11-09/
LOCATION:Piney River Brewing Company\, 15198 Walnut Grove Drive\, Bucyrus\, MO\, 65444
CATEGORIES:special
ORGANIZER;CN="Piney River Brewing Co.":MAILTO:joleen@pineyriverbrewing.com
GEO:37.3216327;-92.0176782
X-APPLE-STRUCTURED-LOCATION;VALUE=URI;X-ADDRESS=Piney River Brewing Company 15198 Walnut Grove Drive Bucyrus MO 65444;X-APPLE-RADIUS=500;X-TITLE=15198 Walnut Grove Drive:geo:-92.0176782,37.3216327
END:VEVENT
BEGIN:VEVENT
DTSTART;TZID=America/Chicago:20241110T120000
DTEND;TZID=America/Chicago:20241110T170000
DTSTAMP:20260423T002108
CREATED:20241023T204453Z
LAST-MODIFIED:20241023T212951Z
UID:10004651-1731240000-1731258000@pineyriverbrewing.com
SUMMARY:Give a Shout for Stout!
DESCRIPTION:Not one but TWO brand new stouts released at the BARn this weekend! \nPiney River’s Oatmeal Stout & Native Land Stout  \nNovember 8\, 9 & 10 with \n\nTrivia @ 7 on Friday\nMusic by Stevie Newman @ 3 on Saturday\nChiefs @ Noon on Sunday 
URL:https://pineyriverbrewing.com/event/give-a-shout-for-stout/2024-11-10/
LOCATION:Piney River Brewing Company\, 15198 Walnut Grove Drive\, Bucyrus\, MO\, 65444
CATEGORIES:special
ATTACH;FMTTYPE=image/jpeg:https://pineyriverbrewing.com/wp-content/uploads/2024/10/stout-release-weekend.jpg
ORGANIZER;CN="Piney River Brewing Co.":MAILTO:joleen@pineyriverbrewing.com
GEO:37.3216327;-92.0176782
X-APPLE-STRUCTURED-LOCATION;VALUE=URI;X-ADDRESS=Piney River Brewing Company 15198 Walnut Grove Drive Bucyrus MO 65444;X-APPLE-RADIUS=500;X-TITLE=15198 Walnut Grove Drive:geo:-92.0176782,37.3216327
END:VEVENT
BEGIN:VEVENT
DTSTART;TZID=America/Chicago:20241116T150000
DTEND;TZID=America/Chicago:20241116T180000
DTSTAMP:20260423T002108
CREATED:20220616T184850Z
LAST-MODIFIED:20250608T195258Z
UID:10004403-1731769200-1731780000@pineyriverbrewing.com
SUMMARY:Music at the BARn with the Three C's
DESCRIPTION:The 3 C’s – Cline\, Cline & Cash bring old timey country music straight from the Ozark hills and hollers.
URL:https://pineyriverbrewing.com/event/music-at-the-barn-with-the-three-cs-3/2024-11-16/
LOCATION:Piney River Brewing Company\, 15198 Walnut Grove Drive\, Bucyrus\, MO\, 65444
CATEGORIES:special
ORGANIZER;CN="Piney River Brewing Co.":MAILTO:joleen@pineyriverbrewing.com
GEO:37.3216327;-92.0176782
X-APPLE-STRUCTURED-LOCATION;VALUE=URI;X-ADDRESS=Piney River Brewing Company 15198 Walnut Grove Drive Bucyrus MO 65444;X-APPLE-RADIUS=500;X-TITLE=15198 Walnut Grove Drive:geo:-92.0176782,37.3216327
END:VEVENT
BEGIN:VEVENT
DTSTART;TZID=America/Chicago:20241123T150000
DTEND;TZID=America/Chicago:20241123T180000
DTSTAMP:20260423T002108
CREATED:20240405T222036Z
LAST-MODIFIED:20260128T213406Z
UID:10004624-1732374000-1732384800@pineyriverbrewing.com
SUMMARY:Music at the BARn with Kirk Pierce
DESCRIPTION:Local Americana artist\, Kirk Pierce\, will bring his guitar and play original and cover tunes.
URL:https://pineyriverbrewing.com/event/music-at-the-barn-with-kirk-pierce-5/2024-11-23/
LOCATION:Piney River Brewing Company\, 15198 Walnut Grove Drive\, Bucyrus\, MO\, 65444
CATEGORIES:special
ORGANIZER;CN="Piney River Brewing Co.":MAILTO:joleen@pineyriverbrewing.com
GEO:37.3216327;-92.0176782
X-APPLE-STRUCTURED-LOCATION;VALUE=URI;X-ADDRESS=Piney River Brewing Company 15198 Walnut Grove Drive Bucyrus MO 65444;X-APPLE-RADIUS=500;X-TITLE=15198 Walnut Grove Drive:geo:-92.0176782,37.3216327
END:VEVENT
BEGIN:VEVENT
DTSTART;TZID=America/Chicago:20241130T150000
DTEND;TZID=America/Chicago:20241130T180000
DTSTAMP:20260423T002108
CREATED:20231109T030026Z
LAST-MODIFIED:20260129T195427Z
UID:10004631-1732978800-1732989600@pineyriverbrewing.com
SUMMARY:Music at the BARn with James Vankirk
DESCRIPTION:Local artist\, James Vankirk will sing and play classic tunes you know and love.
URL:https://pineyriverbrewing.com/event/james-vankirk-live-at-the-barn/2024-11-30/
LOCATION:Piney River Brewing Company\, 15198 Walnut Grove Drive\, Bucyrus\, MO\, 65444
CATEGORIES:special
ORGANIZER;CN="Piney River Brewing Co.":MAILTO:joleen@pineyriverbrewing.com
GEO:37.3216327;-92.0176782
X-APPLE-STRUCTURED-LOCATION;VALUE=URI;X-ADDRESS=Piney River Brewing Company 15198 Walnut Grove Drive Bucyrus MO 65444;X-APPLE-RADIUS=500;X-TITLE=15198 Walnut Grove Drive:geo:-92.0176782,37.3216327
END:VEVENT
END:VCALENDAR