BEGIN:VCALENDAR
VERSION:2.0
PRODID:-//Piney River Brewing Co. - ECPv6.15.17//NONSGML v1.0//EN
CALSCALE:GREGORIAN
METHOD:PUBLISH
X-ORIGINAL-URL:https://pineyriverbrewing.com
X-WR-CALDESC:Events for Piney River Brewing Co.
REFRESH-INTERVAL;VALUE=DURATION:PT1H
X-Robots-Tag:noindex
X-PUBLISHED-TTL:PT1H
BEGIN:VTIMEZONE
TZID:America/Chicago
BEGIN:DAYLIGHT
TZOFFSETFROM:-0600
TZOFFSETTO:-0500
TZNAME:CDT
DTSTART:20240310T080000
END:DAYLIGHT
BEGIN:STANDARD
TZOFFSETFROM:-0500
TZOFFSETTO:-0600
TZNAME:CST
DTSTART:20241103T070000
END:STANDARD
BEGIN:DAYLIGHT
TZOFFSETFROM:-0600
TZOFFSETTO:-0500
TZNAME:CDT
DTSTART:20250309T080000
END:DAYLIGHT
BEGIN:STANDARD
TZOFFSETFROM:-0500
TZOFFSETTO:-0600
TZNAME:CST
DTSTART:20251102T070000
END:STANDARD
BEGIN:DAYLIGHT
TZOFFSETFROM:-0600
TZOFFSETTO:-0500
TZNAME:CDT
DTSTART:20260308T080000
END:DAYLIGHT
BEGIN:STANDARD
TZOFFSETFROM:-0500
TZOFFSETTO:-0600
TZNAME:CST
DTSTART:20261101T070000
END:STANDARD
END:VTIMEZONE
BEGIN:VEVENT
DTSTART;TZID=America/Chicago:20250830T140000
DTEND;TZID=America/Chicago:20250830T220000
DTSTAMP:20260421T010617
CREATED:20250730T214207Z
LAST-MODIFIED:20250730T214207Z
UID:10004734-1756562400-1756591200@pineyriverbrewing.com
SUMMARY:Raise A Pint for Education at the BARn
DESCRIPTION:Our annual fundraiser to benefit the Houston Education Foundation\, which support the educational endeavors of the Houston R-1 School District. \nA portion of all pint sales benefits HEF. \nHEF will be on site with smoked\, pulled pork plates. \nCornhole Tourney – Sponsored by Country Financial\, Agent JJ Romines \n\nRegistration begins at 2 p.m. – Two Divisions\, Competitive & Recreational\, with Cash Prizes for Both!\nBags fly inside the brewery at 3 p.m.\n$60/Team\, includes pulled pork plate\, Fees go to HEF\n\nMusic by Casey Lynne & the Dealbreakers from 5 to 8 p.m. \nA fun day for the whole family to enjoy at our Farm!
URL:https://pineyriverbrewing.com/event/raise-a-pint-for-education-at-the-barn-3/
LOCATION:Piney River Brewing Company\, 15198 Walnut Grove Drive\, Bucyrus\, MO\, 65444
CATEGORIES:special
ORGANIZER;CN="Piney River Brewing Co.":MAILTO:joleen@pineyriverbrewing.com
GEO:37.3216327;-92.0176782
X-APPLE-STRUCTURED-LOCATION;VALUE=URI;X-ADDRESS=Piney River Brewing Company 15198 Walnut Grove Drive Bucyrus MO 65444;X-APPLE-RADIUS=500;X-TITLE=15198 Walnut Grove Drive:geo:-92.0176782,37.3216327
END:VEVENT
BEGIN:VEVENT
DTSTART;TZID=America/Chicago:20250830T170000
DTEND;TZID=America/Chicago:20250830T200000
DTSTAMP:20260421T010617
CREATED:20220616T190952Z
LAST-MODIFIED:20250223T210221Z
UID:10004709-1756573200-1756584000@pineyriverbrewing.com
SUMMARY:Music at the BARn with Casey Lynne & the Dealbreakers
DESCRIPTION:Casey Lynne Barr and her swingin’ country band\, The Dealbreakers\, will raise the roof.
URL:https://pineyriverbrewing.com/event/casey-lynne-the-dealbreakers-at-the-barn-3/2025-08-30/
LOCATION:Piney River Brewing Company\, 15198 Walnut Grove Drive\, Bucyrus\, MO\, 65444
CATEGORIES:special
GEO:37.3216327;-92.0176782
X-APPLE-STRUCTURED-LOCATION;VALUE=URI;X-ADDRESS=Piney River Brewing Company 15198 Walnut Grove Drive Bucyrus MO 65444;X-APPLE-RADIUS=500;X-TITLE=15198 Walnut Grove Drive:geo:-92.0176782,37.3216327
END:VEVENT
END:VCALENDAR