BEGIN:VCALENDAR
VERSION:2.0
PRODID:-//Piney River Brewing Co. - ECPv6.15.17//NONSGML v1.0//EN
CALSCALE:GREGORIAN
METHOD:PUBLISH
X-ORIGINAL-URL:https://pineyriverbrewing.com
X-WR-CALDESC:Events for Piney River Brewing Co.
REFRESH-INTERVAL;VALUE=DURATION:PT1H
X-Robots-Tag:noindex
X-PUBLISHED-TTL:PT1H
BEGIN:VTIMEZONE
TZID:America/Chicago
BEGIN:DAYLIGHT
TZOFFSETFROM:-0600
TZOFFSETTO:-0500
TZNAME:CDT
DTSTART:20240310T080000
END:DAYLIGHT
BEGIN:STANDARD
TZOFFSETFROM:-0500
TZOFFSETTO:-0600
TZNAME:CST
DTSTART:20241103T070000
END:STANDARD
BEGIN:DAYLIGHT
TZOFFSETFROM:-0600
TZOFFSETTO:-0500
TZNAME:CDT
DTSTART:20250309T080000
END:DAYLIGHT
BEGIN:STANDARD
TZOFFSETFROM:-0500
TZOFFSETTO:-0600
TZNAME:CST
DTSTART:20251102T070000
END:STANDARD
BEGIN:DAYLIGHT
TZOFFSETFROM:-0600
TZOFFSETTO:-0500
TZNAME:CDT
DTSTART:20260308T080000
END:DAYLIGHT
BEGIN:STANDARD
TZOFFSETFROM:-0500
TZOFFSETTO:-0600
TZNAME:CST
DTSTART:20261101T070000
END:STANDARD
END:VTIMEZONE
BEGIN:VEVENT
DTSTART;TZID=America/Chicago:20250603T180000
DTEND;TZID=America/Chicago:20250603T200000
DTSTAMP:20260424T032042
CREATED:20250508T224612Z
LAST-MODIFIED:20250508T224650Z
UID:10004723-1748973600-1748980800@pineyriverbrewing.com
SUMMARY:Piney River Tapping & Tasting at Primo Vino
DESCRIPTION:Raise a pint of Piney River at Primo Vino. Special kegs will be tapped. Joleen & Brian will be in the house with beer to be tasted\, too! Best of all\, there will be beer you can take home\, too.
URL:https://pineyriverbrewing.com/event/piney-river-tapping-tasting-at-primo-vino/
LOCATION:Piney River Brewing Company\, 15198 Walnut Grove Drive\, Bucyrus\, MO\, 65444
CATEGORIES:special
ORGANIZER;CN="Piney River Brewing Co.":MAILTO:joleen@pineyriverbrewing.com
GEO:37.3216327;-92.0176782
X-APPLE-STRUCTURED-LOCATION;VALUE=URI;X-ADDRESS=Piney River Brewing Company 15198 Walnut Grove Drive Bucyrus MO 65444;X-APPLE-RADIUS=500;X-TITLE=15198 Walnut Grove Drive:geo:-92.0176782,37.3216327
END:VEVENT
END:VCALENDAR