BEGIN:VCALENDAR
VERSION:2.0
PRODID:-//Piney River Brewing Co. - ECPv6.15.17//NONSGML v1.0//EN
CALSCALE:GREGORIAN
METHOD:PUBLISH
X-ORIGINAL-URL:https://pineyriverbrewing.com
X-WR-CALDESC:Events for Piney River Brewing Co.
REFRESH-INTERVAL;VALUE=DURATION:PT1H
X-Robots-Tag:noindex
X-PUBLISHED-TTL:PT1H
BEGIN:VTIMEZONE
TZID:America/Chicago
BEGIN:DAYLIGHT
TZOFFSETFROM:-0600
TZOFFSETTO:-0500
TZNAME:CDT
DTSTART:20240310T080000
END:DAYLIGHT
BEGIN:STANDARD
TZOFFSETFROM:-0500
TZOFFSETTO:-0600
TZNAME:CST
DTSTART:20241103T070000
END:STANDARD
BEGIN:DAYLIGHT
TZOFFSETFROM:-0600
TZOFFSETTO:-0500
TZNAME:CDT
DTSTART:20250309T080000
END:DAYLIGHT
BEGIN:STANDARD
TZOFFSETFROM:-0500
TZOFFSETTO:-0600
TZNAME:CST
DTSTART:20251102T070000
END:STANDARD
BEGIN:DAYLIGHT
TZOFFSETFROM:-0600
TZOFFSETTO:-0500
TZNAME:CDT
DTSTART:20260308T080000
END:DAYLIGHT
BEGIN:STANDARD
TZOFFSETFROM:-0500
TZOFFSETTO:-0600
TZNAME:CST
DTSTART:20261101T070000
END:STANDARD
END:VTIMEZONE
BEGIN:VEVENT
DTSTART;TZID=America/Chicago:20250214T160000
DTEND;TZID=America/Chicago:20250214T220000
DTSTAMP:20260422T223124
CREATED:20250118T010528Z
LAST-MODIFIED:20260128T222109Z
UID:10004657-1739548800-1739570400@pineyriverbrewing.com
SUMMARY:Valentine's Day Weekend at the BARn
DESCRIPTION:
URL:https://pineyriverbrewing.com/event/valentines-day-weekend-at-the-barn-4/2025-02-14/
LOCATION:Piney River Brewing Company\, 15198 Walnut Grove Drive\, Bucyrus\, MO\, 65444
CATEGORIES:special
ATTACH;FMTTYPE=image/jpeg:https://pineyriverbrewing.com/wp-content/uploads/2020/01/valentines-day-weekend.jpg
GEO:37.3216327;-92.0176782
X-APPLE-STRUCTURED-LOCATION;VALUE=URI;X-ADDRESS=Piney River Brewing Company 15198 Walnut Grove Drive Bucyrus MO 65444;X-APPLE-RADIUS=500;X-TITLE=15198 Walnut Grove Drive:geo:-92.0176782,37.3216327
END:VEVENT
BEGIN:VEVENT
DTSTART;TZID=America/Chicago:20250214T180000
DTEND;TZID=America/Chicago:20250214T210000
DTSTAMP:20260422T223124
CREATED:20220616T182148Z
LAST-MODIFIED:20250118T012110Z
UID:10004666-1739556000-1739566800@pineyriverbrewing.com
SUMMARY:Music at the BARn with Ben Bergmark
DESCRIPTION:Jazz pianist Ben Bergmark will be tickling the ivories today!
URL:https://pineyriverbrewing.com/event/music-at-the-barn-with-ben-bergmark-2/2025-02-14/
LOCATION:Piney River Brewing Company\, 15198 Walnut Grove Drive\, Bucyrus\, MO\, 65444
CATEGORIES:special
ORGANIZER;CN="Piney River Brewing Co.":MAILTO:joleen@pineyriverbrewing.com
GEO:37.3216327;-92.0176782
X-APPLE-STRUCTURED-LOCATION;VALUE=URI;X-ADDRESS=Piney River Brewing Company 15198 Walnut Grove Drive Bucyrus MO 65444;X-APPLE-RADIUS=500;X-TITLE=15198 Walnut Grove Drive:geo:-92.0176782,37.3216327
END:VEVENT
BEGIN:VEVENT
DTSTART;TZID=America/Chicago:20250215T140000
DTEND;TZID=America/Chicago:20250215T220000
DTSTAMP:20260422T223124
CREATED:20250118T010528Z
LAST-MODIFIED:20260128T222109Z
UID:10004658-1739628000-1739656800@pineyriverbrewing.com
SUMMARY:Valentine's Day Weekend at the BARn
DESCRIPTION:
URL:https://pineyriverbrewing.com/event/valentines-day-weekend-at-the-barn-4/2025-02-15/
LOCATION:Piney River Brewing Company\, 15198 Walnut Grove Drive\, Bucyrus\, MO\, 65444
CATEGORIES:special
ATTACH;FMTTYPE=image/jpeg:https://pineyriverbrewing.com/wp-content/uploads/2020/01/valentines-day-weekend.jpg
GEO:37.3216327;-92.0176782
X-APPLE-STRUCTURED-LOCATION;VALUE=URI;X-ADDRESS=Piney River Brewing Company 15198 Walnut Grove Drive Bucyrus MO 65444;X-APPLE-RADIUS=500;X-TITLE=15198 Walnut Grove Drive:geo:-92.0176782,37.3216327
END:VEVENT
BEGIN:VEVENT
DTSTART;TZID=America/Chicago:20250215T160000
DTEND;TZID=America/Chicago:20250215T190000
DTSTAMP:20260422T223124
CREATED:20240405T222036Z
LAST-MODIFIED:20260128T213406Z
UID:10004671-1739635200-1739646000@pineyriverbrewing.com
SUMMARY:Music at the BARn with Kirk Pierce
DESCRIPTION:Local Americana artist\, Kirk Pierce\, will bring his guitar and play original and cover tunes.
URL:https://pineyriverbrewing.com/event/music-at-the-barn-with-kirk-pierce-5/2025-02-15/
LOCATION:Piney River Brewing Company\, 15198 Walnut Grove Drive\, Bucyrus\, MO\, 65444
CATEGORIES:special
ORGANIZER;CN="Piney River Brewing Co.":MAILTO:joleen@pineyriverbrewing.com
GEO:37.3216327;-92.0176782
X-APPLE-STRUCTURED-LOCATION;VALUE=URI;X-ADDRESS=Piney River Brewing Company 15198 Walnut Grove Drive Bucyrus MO 65444;X-APPLE-RADIUS=500;X-TITLE=15198 Walnut Grove Drive:geo:-92.0176782,37.3216327
END:VEVENT
END:VCALENDAR