BEGIN:VCALENDAR
VERSION:2.0
PRODID:-//Piney River Brewing Co. - ECPv6.15.17//NONSGML v1.0//EN
CALSCALE:GREGORIAN
METHOD:PUBLISH
X-ORIGINAL-URL:https://pineyriverbrewing.com
X-WR-CALDESC:Events for Piney River Brewing Co.
REFRESH-INTERVAL;VALUE=DURATION:PT1H
X-Robots-Tag:noindex
X-PUBLISHED-TTL:PT1H
BEGIN:VTIMEZONE
TZID:America/Chicago
BEGIN:DAYLIGHT
TZOFFSETFROM:-0600
TZOFFSETTO:-0500
TZNAME:CDT
DTSTART:20170312T080000
END:DAYLIGHT
BEGIN:STANDARD
TZOFFSETFROM:-0500
TZOFFSETTO:-0600
TZNAME:CST
DTSTART:20171105T070000
END:STANDARD
BEGIN:DAYLIGHT
TZOFFSETFROM:-0600
TZOFFSETTO:-0500
TZNAME:CDT
DTSTART:20180311T080000
END:DAYLIGHT
BEGIN:STANDARD
TZOFFSETFROM:-0500
TZOFFSETTO:-0600
TZNAME:CST
DTSTART:20181104T070000
END:STANDARD
BEGIN:DAYLIGHT
TZOFFSETFROM:-0600
TZOFFSETTO:-0500
TZNAME:CDT
DTSTART:20190310T080000
END:DAYLIGHT
BEGIN:STANDARD
TZOFFSETFROM:-0500
TZOFFSETTO:-0600
TZNAME:CST
DTSTART:20191103T070000
END:STANDARD
END:VTIMEZONE
BEGIN:VEVENT
DTSTART;TZID=America/Chicago:20180322T130000
DTEND;TZID=America/Chicago:20180322T160000
DTSTAMP:20260424T055747
CREATED:20180302T024005Z
LAST-MODIFIED:20180302T033337Z
UID:10004262-1521723600-1521734400@pineyriverbrewing.com
SUMMARY:Coin Op Cantina Tap Takeover
DESCRIPTION:Limited release beers tapped and giveaways! \n\nCerveza Rio Mexican Lager\nMissouri Mule IPA\nMissouri Waltz with Blackberries\nRaise A Ruckus Imperial Stout\nBarrel-Aged Raise A Ruckus Imperial Stout
URL:https://pineyriverbrewing.com/event/co-op-cantina-tap-takeover/
LOCATION:Coin Op Cantina\, 46 Main Street\, Cape Girardeau\, MO\, 63701\, United States
GEO:37.3045937;-89.518248
X-APPLE-STRUCTURED-LOCATION;VALUE=URI;X-ADDRESS=Coin Op Cantina 46 Main Street Cape Girardeau MO 63701 United States;X-APPLE-RADIUS=500;X-TITLE=46 Main Street:geo:-89.518248,37.3045937
END:VEVENT
END:VCALENDAR